BEGIN:VCALENDAR
VERSION:2.0
PRODID:-//ExpressionEngine Easy iCalendar plugin//NONSGML v2.0.0//EN
X-WR-TIMEZONE:America/New_York
X-WR-CALNAME:Upcoming Auctions
BEGIN:VEVENT
UID:88234
DTSTAMP:20220905T232400
DTSTART:20220905T232400
DTEND:20220906T002400
SUMMARY:Happy Labor Day!
LOCATION:{location}
DESCRIPTION:Hope everyone has a safe holiday!
URL:https://www.hudsonmarshall.com/auctions/detail/bw88234
SEQUENCE:1
END:VEVENT
END:VCALENDAR