BEGIN:VCALENDAR
VERSION:2.0
PRODID:-//ExpressionEngine Easy iCalendar plugin//NONSGML v2.0.1//EN
X-WR-TIMEZONE:America/New_York
X-WR-CALNAME:Upcoming Auctions
BEGIN:VEVENT
UID:146602
DTSTAMP:20250920T100000
DTSTART:20250920T100000
DTEND:20250920T110000
SUMMARY:LIVE AUCTION - Beautiful Home and Personal Property\, Lake To
 besofkee\, Macon\, Georgia
LOCATION:{location}
DESCRIPTION:Beautiful lakefront home located at 132 Pinnacle Point Subdi
 vision on Lake Tobesofkee.  Also selling 2 boats and all th
 e personal property.  OPEN HOUSE:  The house and personal
  property will be available for inspection Sunday\, August 31
 st\, September 7th and September 14th from 2:00 until 5:00 P.
 M. and Friday September 19th from 10:00 until 5:00 P.M. or b
 y appointment with Steve Slocumb at 478-957-4283.  BROKER C
 O-OP FEE OFFERED
URL:https://www.hudsonmarshall.com/auctions/detail/bw146602
SEQUENCE:1
END:VEVENT
END:VCALENDAR