BEGIN:VCALENDAR
VERSION:2.0
PRODID:-//ExpressionEngine Easy iCalendar plugin//NONSGML v2.0.0//EN
X-WR-TIMEZONE:America/New_York
X-WR-CALNAME:Upcoming Auctions
BEGIN:VEVENT
UID:111215
DTSTAMP:20231207T090000
DTSTART:20231207T090000
DTEND:20231208T153000
SUMMARY:ONLINE AUCTION - Laurens and Baldwin Counties
LOCATION:{location}
DESCRIPTION:33.06 Acres Located on T. H. Harden Road\, Laurens County  4
  Lots Located at Lake Sinclair in Still Waters Subdivision i
 n Baldwin County.  
URL:https://www.hudsonmarshall.com/auctions/detail/bw111215
SEQUENCE:1
END:VEVENT
END:VCALENDAR